BEGIN:VCALENDAR
VERSION:2.0
PRODID:-//City of South Charleston - ECPv5.16.4//NONSGML v1.0//EN
CALSCALE:GREGORIAN
METHOD:PUBLISH
X-WR-CALNAME:City of South Charleston
X-ORIGINAL-URL:https://cityofsouthcharleston.com
X-WR-CALDESC:Events for City of South Charleston
BEGIN:VTIMEZONE
TZID:UTC
BEGIN:STANDARD
TZOFFSETFROM:+0000
TZOFFSETTO:+0000
TZNAME:UTC
DTSTART:20260101T000000
END:STANDARD
END:VTIMEZONE
BEGIN:VEVENT
DTSTART;TZID=UTC:20260812T180000
DTEND;TZID=UTC:20260815T220000
DTSTAMP:20260419T144146
CREATED:20240507T165313Z
LAST-MODIFIED:20260108T182938Z
UID:8479-1786557600-1786831200@cityofsouthcharleston.com
SUMMARY:Summerfest 2026
DESCRIPTION:  \n  \n  \n  \n  \n  \n  \n  \n  \n 
URL:https://cityofsouthcharleston.com/event/summerfest-2024/
LOCATION:Mound\, 301 7th Ave\, South Charleston\, WV 25303\, South Charleston\, WV\, 25303\, United States
CATEGORIES:CityEvents,EventCalendar,OtherEvents
ATTACH;FMTTYPE=image/jpeg:https://cityofsouthcharleston.com/wp-content/uploads/2024/07/Summerfest.jpg
END:VEVENT
END:VCALENDAR