BEGIN:VCALENDAR
VERSION:2.0
PRODID:-//City of South Charleston - ECPv5.16.4//NONSGML v1.0//EN
CALSCALE:GREGORIAN
METHOD:PUBLISH
X-WR-CALNAME:City of South Charleston
X-ORIGINAL-URL:https://cityofsouthcharleston.com
X-WR-CALDESC:Events for City of South Charleston
BEGIN:VTIMEZONE
TZID:UTC
BEGIN:STANDARD
TZOFFSETFROM:+0000
TZOFFSETTO:+0000
TZNAME:UTC
DTSTART:20250101T000000
END:STANDARD
END:VTIMEZONE
BEGIN:VEVENT
DTSTART;TZID=UTC:20251218T160000
DTEND;TZID=UTC:20251218T180000
DTSTAMP:20260423T011912
CREATED:20251210T161935Z
LAST-MODIFIED:20251210T161949Z
UID:9674-1766073600-1766080800@cityofsouthcharleston.com
SUMMARY:Santa's Candy Gift Drop
DESCRIPTION:  \n\nSanta’s Candy Gift Drop \n\n\nIn the heart of South Charleston\, where the Christmas lights glow\, a magical evening is coming \,get ready for the show!\n\n\n\nFor up in the sky\, with a whoosh and a truck’s festive clatter\,Santa will rise in the South Charleston Fire Department‘s ladder! \n\n\n\nHe’ll wave from above as the candy gifts fall\,\nBringing joy to the children\, the teens\, and us all.\n\n\n\nWith The Grinch close by\, full of mischief and cheer\,this is the sweetest night of the holiday year!\n\n\n\nCookies and cocoa will warm every hand\,\nLetters to Santa await\,bring your list\, make it grand!\n\n\n\nAnd when the clock strikes each special time\,\nDifferent age groups will step in line… \n\n\n\nSo join us December 18th\, 4PM–6PM\, under the twinkling sky\, at the South Charleston Farmers Market\,don’t let this pass you by.\n\n\n\nA Christmas tradition that’s merry and bright\,\nWe’ll make holiday memories together that night.
URL:https://cityofsouthcharleston.com/event/santas-candy-gift-drop/
LOCATION:South Charleston Farmers Market\, 4006 Maccorkle Avenue S.W.\, South Charleston\, West Virginia\, WV\, 25309\, United States
CATEGORIES:CityEvents,EventCalendar
ATTACH;FMTTYPE=image/jpeg:https://cityofsouthcharleston.com/wp-content/uploads/2025/12/Santas-Candy-Gift-Drop.jpg
END:VEVENT
END:VCALENDAR