BEGIN:VCALENDAR
VERSION:2.0
PRODID:-//City of South Charleston - ECPv5.16.4//NONSGML v1.0//EN
CALSCALE:GREGORIAN
METHOD:PUBLISH
X-WR-CALNAME:City of South Charleston
X-ORIGINAL-URL:https://cityofsouthcharleston.com
X-WR-CALDESC:Events for City of South Charleston
BEGIN:VTIMEZONE
TZID:UTC
BEGIN:STANDARD
TZOFFSETFROM:+0000
TZOFFSETTO:+0000
TZNAME:UTC
DTSTART:20250101T000000
END:STANDARD
END:VTIMEZONE
BEGIN:VEVENT
DTSTART;TZID=UTC:20251201T180000
DTEND;TZID=UTC:20251224T210000
DTSTAMP:20260422T223125
CREATED:20210330T195546Z
LAST-MODIFIED:20251029T180505Z
UID:6355-1764612000-1766610000@cityofsouthcharleston.com
SUMMARY:Christmas Lights At Little Creek Park
DESCRIPTION:  \n  December 6th \nHosted by South Charleston First Church of the Nazarene Nativity Light Display Treat Bags for Visitors December 12th & 13thHosted by Rotary Club\, Heart & Hand\, & Women’s Club Rotary Cookies Women’s Club Hot Chocolate Heart & Hand Goodie Bags December 19th & 20thHosted by City of South Charleston Pictures with Santa Free Hot Chocolate & Cookies for Kids!ALL EVENTS ARE FREE!! \n  \n  \n  \n 
URL:https://cityofsouthcharleston.com/event/christmas-lights-at-little-creek-park/
LOCATION:Little Creek Park\, Little Creek Park Drive\, South Charleston\, WV\, 25309\, United States
CATEGORIES:CityEvents,EventCalendar
ATTACH;FMTTYPE=image/jpeg:https://cityofsouthcharleston.com/wp-content/uploads/2021/03/Lights-At-Little-Creek-Park.jpg
END:VEVENT
END:VCALENDAR